BEGIN:VCALENDAR
VERSION:2.0
PRODID:-//Feuerwehr Genshagen - ECPv6.15.20//NONSGML v1.0//EN
CALSCALE:GREGORIAN
METHOD:PUBLISH
X-ORIGINAL-URL:https://feuerwehr-genshagen.de
X-WR-CALDESC:Veranstaltungen für Feuerwehr Genshagen
REFRESH-INTERVAL;VALUE=DURATION:PT1H
X-Robots-Tag:noindex
X-PUBLISHED-TTL:PT1H
BEGIN:VTIMEZONE
TZID:Europe/Berlin
BEGIN:DAYLIGHT
TZOFFSETFROM:+0100
TZOFFSETTO:+0200
TZNAME:CEST
DTSTART:20250330T010000
END:DAYLIGHT
BEGIN:STANDARD
TZOFFSETFROM:+0200
TZOFFSETTO:+0100
TZNAME:CET
DTSTART:20251026T010000
END:STANDARD
BEGIN:DAYLIGHT
TZOFFSETFROM:+0100
TZOFFSETTO:+0200
TZNAME:CEST
DTSTART:20260329T010000
END:DAYLIGHT
BEGIN:STANDARD
TZOFFSETFROM:+0200
TZOFFSETTO:+0100
TZNAME:CET
DTSTART:20261025T010000
END:STANDARD
BEGIN:DAYLIGHT
TZOFFSETFROM:+0100
TZOFFSETTO:+0200
TZNAME:CEST
DTSTART:20270328T010000
END:DAYLIGHT
BEGIN:STANDARD
TZOFFSETFROM:+0200
TZOFFSETTO:+0100
TZNAME:CET
DTSTART:20271031T010000
END:STANDARD
END:VTIMEZONE
BEGIN:VEVENT
DTSTART;TZID=Europe/Berlin:20260109T183000
DTEND;TZID=Europe/Berlin:20260109T203000
DTSTAMP:20260420T182305
CREATED:20260109T152600Z
LAST-MODIFIED:20260109T152600Z
UID:2590-1767983400-1767990600@feuerwehr-genshagen.de
SUMMARY:Dienst Einsatzabteilung 09.01.2026
DESCRIPTION:Thema: UVV Unterweisung \n  \nAusbilder: Stadtausbilder
URL:https://feuerwehr-genshagen.de/veranstaltung/dienst-einsatzabteilung-09-01-2026/
LOCATION:Feuerwehr Genshagen\, Genshagener Dorfstraße 57\, Ludwigsfelde OT Genshagen\, 14974\, Deutschland
CATEGORIES:Dienste,Einsatzabteilung
ORGANIZER;CN="Feuerwehr Genshagen":MAILTO:veranstaltungen@feuerwehr-genshagen.de
END:VEVENT
BEGIN:VEVENT
DTSTART;TZID=Europe/Berlin:20260110T090000
DTEND;TZID=Europe/Berlin:20260110T100000
DTSTAMP:20260420T182305
CREATED:20260109T123545Z
LAST-MODIFIED:20260110T190908Z
UID:2554-1768035600-1768039200@feuerwehr-genshagen.de
SUMMARY:Dienst Kinderfeuerwehr
DESCRIPTION:
URL:https://feuerwehr-genshagen.de/veranstaltung/dienst-kinderfeuerwehr-8/
LOCATION:Feuerwehr Genshagen\, Genshagener Dorfstraße 57\, Ludwigsfelde OT Genshagen\, 14974\, Deutschland
CATEGORIES:Kinderfeuerwehr
ORGANIZER;CN="Feuerwehr Genshagen":MAILTO:veranstaltungen@feuerwehr-genshagen.de
END:VEVENT
BEGIN:VEVENT
DTSTART;TZID=Europe/Berlin:20260110T100000
DTEND;TZID=Europe/Berlin:20260110T120000
DTSTAMP:20260420T182305
CREATED:20260110T102801Z
LAST-MODIFIED:20260110T222131Z
UID:2653-1768039200-1768046400@feuerwehr-genshagen.de
SUMMARY:Dienst Jugendfeuerwehr
DESCRIPTION:
URL:https://feuerwehr-genshagen.de/veranstaltung/dienst-jugendfeuerwehr-2/
LOCATION:Feuerwehr Genshagen\, Genshagener Dorfstraße 57\, Ludwigsfelde OT Genshagen\, 14974\, Deutschland
CATEGORIES:Jugendfeuerwehr
ORGANIZER;CN="Feuerwehr Genshagen":MAILTO:veranstaltungen@feuerwehr-genshagen.de
END:VEVENT
BEGIN:VEVENT
DTSTART;TZID=Europe/Berlin:20260113T183000
DTEND;TZID=Europe/Berlin:20260113T203000
DTSTAMP:20260420T182305
CREATED:20260109T152808Z
LAST-MODIFIED:20260109T153534Z
UID:2593-1768329000-1768336200@feuerwehr-genshagen.de
SUMMARY:Dienst Einsatzabteilung 13.01.2026
DESCRIPTION:Thema: OTS \n  \nAusbilder: Heise
URL:https://feuerwehr-genshagen.de/veranstaltung/dienst-einsatzabteilung-13-01-2026/
LOCATION:Feuerwehr Genshagen\, Genshagener Dorfstraße 57\, Ludwigsfelde OT Genshagen\, 14974\, Deutschland
CATEGORIES:Dienste,Einsatzabteilung
ORGANIZER;CN="Feuerwehr Genshagen":MAILTO:veranstaltungen@feuerwehr-genshagen.de
END:VEVENT
BEGIN:VEVENT
DTSTART;TZID=Europe/Berlin:20260116T163000
DTEND;TZID=Europe/Berlin:20260116T190000
DTSTAMP:20260420T182305
CREATED:20260110T102957Z
LAST-MODIFIED:20260116T190841Z
UID:2655-1768581000-1768590000@feuerwehr-genshagen.de
SUMMARY:Dienst Jugendfeuerwehr
DESCRIPTION:Training Leistungsspange
URL:https://feuerwehr-genshagen.de/veranstaltung/dienst-jugendfeuerwehr-3/
LOCATION:Feuerwehr Genshagen\, Genshagener Dorfstraße 57\, Ludwigsfelde OT Genshagen\, 14974\, Deutschland
CATEGORIES:Dienste,Jugendfeuerwehr
ORGANIZER;CN="Feuerwehr Genshagen":MAILTO:veranstaltungen@feuerwehr-genshagen.de
END:VEVENT
BEGIN:VEVENT
DTSTART;TZID=Europe/Berlin:20260123T170000
DTEND;TZID=Europe/Berlin:20260123T180000
DTSTAMP:20260420T182305
CREATED:20260110T103100Z
LAST-MODIFIED:20260110T103100Z
UID:2657-1769187600-1769191200@feuerwehr-genshagen.de
SUMMARY:Dienst Jugendfeuerwehr
DESCRIPTION:Training Leistungsspange
URL:https://feuerwehr-genshagen.de/veranstaltung/dienst-jugendfeuerwehr-4/
LOCATION:Feuerwehr Genshagen\, Genshagener Dorfstraße 57\, Ludwigsfelde OT Genshagen\, 14974\, Deutschland
CATEGORIES:Dienste,Jugendfeuerwehr
ORGANIZER;CN="Feuerwehr Genshagen":MAILTO:veranstaltungen@feuerwehr-genshagen.de
END:VEVENT
BEGIN:VEVENT
DTSTART;TZID=Europe/Berlin:20260123T180000
DTEND;TZID=Europe/Berlin:20260123T200000
DTSTAMP:20260420T182305
CREATED:20260109T153105Z
LAST-MODIFIED:20260109T153105Z
UID:2595-1769191200-1769198400@feuerwehr-genshagen.de
SUMMARY:Jahreshauptversammlung 23.01.2026
DESCRIPTION:Thema: Jahreshauptversammlung der Feuerwehr Ludwigsfelde \n  \nVeranstalter: SWF
URL:https://feuerwehr-genshagen.de/veranstaltung/jahreshauptversammlung-23-01-2026/
LOCATION:Klubhaus\, Theodor-Fontane-Straße 42\, Ludwigsfelde\, 14974\, Deutschland
CATEGORIES:Dienste,Einsatzabteilung
ORGANIZER;CN="Feuerwehr Ludwigsfelde":MAILTO:brandschutz@ludwigsfelde.de
END:VEVENT
BEGIN:VEVENT
DTSTART;TZID=Europe/Berlin:20260124T090000
DTEND;TZID=Europe/Berlin:20260124T100000
DTSTAMP:20260420T182305
CREATED:20260109T123635Z
LAST-MODIFIED:20260109T123635Z
UID:2556-1769245200-1769248800@feuerwehr-genshagen.de
SUMMARY:Dienst Kinderfeuerwehr
DESCRIPTION:
URL:https://feuerwehr-genshagen.de/veranstaltung/dienst-kinderfeuerwehr-9/
LOCATION:Feuerwehr Genshagen\, Genshagener Dorfstraße 57\, Ludwigsfelde OT Genshagen\, 14974\, Deutschland
CATEGORIES:Kinderfeuerwehr
ORGANIZER;CN="Feuerwehr Genshagen":MAILTO:veranstaltungen@feuerwehr-genshagen.de
END:VEVENT
BEGIN:VEVENT
DTSTART;TZID=Europe/Berlin:20260124T100000
DTEND;TZID=Europe/Berlin:20260124T120000
DTSTAMP:20260420T182305
CREATED:20260110T103547Z
LAST-MODIFIED:20260110T103547Z
UID:2662-1769248800-1769256000@feuerwehr-genshagen.de
SUMMARY:Dienst Jugendfeuerwehr
DESCRIPTION:
URL:https://feuerwehr-genshagen.de/veranstaltung/dienst-jugendfeuerwehr-5/
LOCATION:Feuerwehr Genshagen\, Genshagener Dorfstraße 57\, Ludwigsfelde OT Genshagen\, 14974\, Deutschland
CATEGORIES:Dienste,Jugendfeuerwehr
ORGANIZER;CN="Feuerwehr Genshagen":MAILTO:veranstaltungen@feuerwehr-genshagen.de
END:VEVENT
BEGIN:VEVENT
DTSTART;TZID=Europe/Berlin:20260127T183000
DTEND;TZID=Europe/Berlin:20260127T203000
DTSTAMP:20260420T182305
CREATED:20260109T153222Z
LAST-MODIFIED:20260109T153222Z
UID:2598-1769538600-1769545800@feuerwehr-genshagen.de
SUMMARY:Dienst Einsatzabteilung 27.01.2026
DESCRIPTION:Thema: Türnotöffnung \n  \nAusbilder: SWF
URL:https://feuerwehr-genshagen.de/veranstaltung/dienst-einsatzabteilung-27-01-2026/
LOCATION:Feuerwehr Genshagen\, Genshagener Dorfstraße 57\, Ludwigsfelde OT Genshagen\, 14974\, Deutschland
CATEGORIES:Dienste,Einsatzabteilung
ORGANIZER;CN="Feuerwehr Genshagen":MAILTO:veranstaltungen@feuerwehr-genshagen.de
END:VEVENT
BEGIN:VEVENT
DTSTART;TZID=Europe/Berlin:20260130T170000
DTEND;TZID=Europe/Berlin:20260130T180000
DTSTAMP:20260420T182305
CREATED:20260110T103739Z
LAST-MODIFIED:20260110T103739Z
UID:2664-1769792400-1769796000@feuerwehr-genshagen.de
SUMMARY:Dienst Jugendfeuerwehr
DESCRIPTION:Training Leistungsspange
URL:https://feuerwehr-genshagen.de/veranstaltung/dienst-jugendfeuerwehr-6/
LOCATION:Feuerwehr Genshagen\, Genshagener Dorfstraße 57\, Ludwigsfelde OT Genshagen\, 14974\, Deutschland
CATEGORIES:Dienste,Jugendfeuerwehr
ORGANIZER;CN="Feuerwehr Genshagen":MAILTO:veranstaltungen@feuerwehr-genshagen.de
END:VEVENT
END:VCALENDAR