BEGIN:VCALENDAR
VERSION:2.0
PRODID:-//Feuerwehr Genshagen - ECPv6.15.20//NONSGML v1.0//EN
CALSCALE:GREGORIAN
METHOD:PUBLISH
X-WR-CALNAME:Feuerwehr Genshagen
X-ORIGINAL-URL:https://feuerwehr-genshagen.de
X-WR-CALDESC:Veranstaltungen für Feuerwehr Genshagen
REFRESH-INTERVAL;VALUE=DURATION:PT1H
X-Robots-Tag:noindex
X-PUBLISHED-TTL:PT1H
BEGIN:VTIMEZONE
TZID:Europe/Berlin
BEGIN:DAYLIGHT
TZOFFSETFROM:+0100
TZOFFSETTO:+0200
TZNAME:CEST
DTSTART:20250330T010000
END:DAYLIGHT
BEGIN:STANDARD
TZOFFSETFROM:+0200
TZOFFSETTO:+0100
TZNAME:CET
DTSTART:20251026T010000
END:STANDARD
BEGIN:DAYLIGHT
TZOFFSETFROM:+0100
TZOFFSETTO:+0200
TZNAME:CEST
DTSTART:20260329T010000
END:DAYLIGHT
BEGIN:STANDARD
TZOFFSETFROM:+0200
TZOFFSETTO:+0100
TZNAME:CET
DTSTART:20261025T010000
END:STANDARD
BEGIN:DAYLIGHT
TZOFFSETFROM:+0100
TZOFFSETTO:+0200
TZNAME:CEST
DTSTART:20270328T010000
END:DAYLIGHT
BEGIN:STANDARD
TZOFFSETFROM:+0200
TZOFFSETTO:+0100
TZNAME:CET
DTSTART:20271031T010000
END:STANDARD
END:VTIMEZONE
BEGIN:VEVENT
DTSTART;TZID=Europe/Berlin:20260206T183000
DTEND;TZID=Europe/Berlin:20260206T203000
DTSTAMP:20260420T164636
CREATED:20260109T153426Z
LAST-MODIFIED:20260109T153426Z
UID:2600-1770402600-1770409800@feuerwehr-genshagen.de
SUMMARY:Dienst Einsatzabteilung 06.02.2026
DESCRIPTION:Thema: Gefahren an der Einsatzstelle \n  \nAusbilder: Oelschlägel
URL:https://feuerwehr-genshagen.de/veranstaltung/dienst-einsatzabteilung-06-02-2026/
LOCATION:Feuerwehr Genshagen\, Genshagener Dorfstraße 57\, Ludwigsfelde OT Genshagen\, 14974\, Deutschland
CATEGORIES:Dienste,Einsatzabteilung
ORGANIZER;CN="Feuerwehr Genshagen":MAILTO:veranstaltungen@feuerwehr-genshagen.de
END:VEVENT
BEGIN:VEVENT
DTSTART;TZID=Europe/Berlin:20260210T183000
DTEND;TZID=Europe/Berlin:20260210T203000
DTSTAMP:20260420T164636
CREATED:20260109T153719Z
LAST-MODIFIED:20260109T153719Z
UID:2603-1770748200-1770755400@feuerwehr-genshagen.de
SUMMARY:Dienst Einsatzabteilung 10.02.2026
DESCRIPTION:Thema: Atemschutz/Fahrzeugpflege \n  \nAusbilder: SWF
URL:https://feuerwehr-genshagen.de/veranstaltung/dienst-einsatzabteilung-10-02-2026/
LOCATION:Feuerwehr Genshagen\, Genshagener Dorfstraße 57\, Ludwigsfelde OT Genshagen\, 14974\, Deutschland
CATEGORIES:Dienste,Einsatzabteilung
ORGANIZER;CN="Feuerwehr Genshagen":MAILTO:veranstaltungen@feuerwehr-genshagen.de
END:VEVENT
BEGIN:VEVENT
DTSTART;TZID=Europe/Berlin:20260221T090000
DTEND;TZID=Europe/Berlin:20260221T100000
DTSTAMP:20260420T164636
CREATED:20260109T123743Z
LAST-MODIFIED:20260109T123743Z
UID:2558-1771664400-1771668000@feuerwehr-genshagen.de
SUMMARY:Dienst Kinderfeuerwehr
DESCRIPTION:
URL:https://feuerwehr-genshagen.de/veranstaltung/dienst-kinderfeuerwehr-10/
LOCATION:Feuerwehr Genshagen\, Genshagener Dorfstraße 57\, Ludwigsfelde OT Genshagen\, 14974\, Deutschland
CATEGORIES:Kinderfeuerwehr
ORGANIZER;CN="Feuerwehr Genshagen":MAILTO:veranstaltungen@feuerwehr-genshagen.de
END:VEVENT
BEGIN:VEVENT
DTSTART;TZID=Europe/Berlin:20260223T180000
DTEND;TZID=Europe/Berlin:20260223T200000
DTSTAMP:20260420T164636
CREATED:20260109T153941Z
LAST-MODIFIED:20260109T153941Z
UID:2605-1771869600-1771876800@feuerwehr-genshagen.de
SUMMARY:Jahresdienstversammlung 09.01.2026
DESCRIPTION:Thema: Jahresdienstversammlung der OW Genshagen \n  \nVeranstalter: OWF
URL:https://feuerwehr-genshagen.de/veranstaltung/jahresdienstversammlung-09-01-2026/
LOCATION:Feuerwehr Genshagen\, Genshagener Dorfstraße 57\, Ludwigsfelde OT Genshagen\, 14974\, Deutschland
CATEGORIES:Dienste,Einsatzabteilung
ORGANIZER;CN="Feuerwehr Genshagen":MAILTO:veranstaltungen@feuerwehr-genshagen.de
END:VEVENT
BEGIN:VEVENT
DTSTART;TZID=Europe/Berlin:20260224T183000
DTEND;TZID=Europe/Berlin:20260224T203000
DTSTAMP:20260420T164636
CREATED:20260109T154129Z
LAST-MODIFIED:20260109T154129Z
UID:2607-1771957800-1771965000@feuerwehr-genshagen.de
SUMMARY:Dienst Einsatzabteilung 24.02.2026
DESCRIPTION:Thema: Atemschutz \n  \nAusbilder: SWF
URL:https://feuerwehr-genshagen.de/veranstaltung/dienst-einsatzabteilung-24-02-2026/
LOCATION:Feuerwehr Genshagen\, Genshagener Dorfstraße 57\, Ludwigsfelde OT Genshagen\, 14974\, Deutschland
CATEGORIES:Dienste,Einsatzabteilung
ORGANIZER;CN="Feuerwehr Genshagen":MAILTO:veranstaltungen@feuerwehr-genshagen.de
END:VEVENT
END:VCALENDAR