BEGIN:VCALENDAR
VERSION:2.0
PRODID:-//Feuerwehr Genshagen - ECPv6.15.20//NONSGML v1.0//EN
CALSCALE:GREGORIAN
METHOD:PUBLISH
X-WR-CALNAME:Feuerwehr Genshagen
X-ORIGINAL-URL:https://feuerwehr-genshagen.de
X-WR-CALDESC:Veranstaltungen für Feuerwehr Genshagen
REFRESH-INTERVAL;VALUE=DURATION:PT1H
X-Robots-Tag:noindex
X-PUBLISHED-TTL:PT1H
BEGIN:VTIMEZONE
TZID:Europe/Berlin
BEGIN:DAYLIGHT
TZOFFSETFROM:+0100
TZOFFSETTO:+0200
TZNAME:CEST
DTSTART:20250330T010000
END:DAYLIGHT
BEGIN:STANDARD
TZOFFSETFROM:+0200
TZOFFSETTO:+0100
TZNAME:CET
DTSTART:20251026T010000
END:STANDARD
BEGIN:DAYLIGHT
TZOFFSETFROM:+0100
TZOFFSETTO:+0200
TZNAME:CEST
DTSTART:20260329T010000
END:DAYLIGHT
BEGIN:STANDARD
TZOFFSETFROM:+0200
TZOFFSETTO:+0100
TZNAME:CET
DTSTART:20261025T010000
END:STANDARD
BEGIN:DAYLIGHT
TZOFFSETFROM:+0100
TZOFFSETTO:+0200
TZNAME:CEST
DTSTART:20270328T010000
END:DAYLIGHT
BEGIN:STANDARD
TZOFFSETFROM:+0200
TZOFFSETTO:+0100
TZNAME:CET
DTSTART:20271031T010000
END:STANDARD
END:VTIMEZONE
BEGIN:VEVENT
DTSTART;TZID=Europe/Berlin:20260502T090000
DTEND;TZID=Europe/Berlin:20260502T100000
DTSTAMP:20260420T151804
CREATED:20260109T124013Z
LAST-MODIFIED:20260109T124013Z
UID:2566-1777712400-1777716000@feuerwehr-genshagen.de
SUMMARY:Dienst Kinderfeuerwehr
DESCRIPTION:
URL:https://feuerwehr-genshagen.de/veranstaltung/dienst-kinderfeuerwehr-14/
LOCATION:Feuerwehr Genshagen\, Genshagener Dorfstraße 57\, Ludwigsfelde OT Genshagen\, 14974\, Deutschland
CATEGORIES:Kinderfeuerwehr
ORGANIZER;CN="Feuerwehr Genshagen":MAILTO:veranstaltungen@feuerwehr-genshagen.de
END:VEVENT
BEGIN:VEVENT
DTSTART;TZID=Europe/Berlin:20260502T170000
DTEND;TZID=Europe/Berlin:20260823T180000
DTSTAMP:20260420T151804
CREATED:20260109T155204Z
LAST-MODIFIED:20260109T155204Z
UID:2625-1777741200-1787508000@feuerwehr-genshagen.de
SUMMARY:Sonderdienst Einsatzabteilung 02.05.2026
DESCRIPTION:Thema: Brunnenprüfung \n  \nAusbilder: OWF
URL:https://feuerwehr-genshagen.de/veranstaltung/sonderdienst-einsatzabteilung-02-05-2026/
LOCATION:Feuerwehr Genshagen\, Genshagener Dorfstraße 57\, Ludwigsfelde OT Genshagen\, 14974\, Deutschland
CATEGORIES:Dienste,Einsatzabteilung
ORGANIZER;CN="Feuerwehr Genshagen":MAILTO:veranstaltungen@feuerwehr-genshagen.de
END:VEVENT
BEGIN:VEVENT
DTSTART;TZID=Europe/Berlin:20260505T183000
DTEND;TZID=Europe/Berlin:20260505T203000
DTSTAMP:20260420T151804
CREATED:20260109T155304Z
LAST-MODIFIED:20260109T155304Z
UID:2627-1778005800-1778013000@feuerwehr-genshagen.de
SUMMARY:Dienst Einsatzabteilung 05.05.2026
DESCRIPTION:Thema: Vegetationsbrandbekämpfung \n  \nAusbilder: Trometer
URL:https://feuerwehr-genshagen.de/veranstaltung/dienst-einsatzabteilung-05-05-2026/
LOCATION:Feuerwehr Genshagen\, Genshagener Dorfstraße 57\, Ludwigsfelde OT Genshagen\, 14974\, Deutschland
CATEGORIES:Dienste,Einsatzabteilung
ORGANIZER;CN="Feuerwehr Genshagen":MAILTO:veranstaltungen@feuerwehr-genshagen.de
END:VEVENT
BEGIN:VEVENT
DTSTART;TZID=Europe/Berlin:20260515T183000
DTEND;TZID=Europe/Berlin:20260515T203000
DTSTAMP:20260420T151804
CREATED:20260109T155412Z
LAST-MODIFIED:20260109T155412Z
UID:2629-1778869800-1778877000@feuerwehr-genshagen.de
SUMMARY:Dienst Einsatzabteilung 15.05.2026
DESCRIPTION:Thema: Wasserentnahmestelle offenes Gewässer \n  \nAusbilder: Heise
URL:https://feuerwehr-genshagen.de/veranstaltung/dienst-einsatzabteilung-15-05-2026/
LOCATION:Feuerwehr Genshagen\, Genshagener Dorfstraße 57\, Ludwigsfelde OT Genshagen\, 14974\, Deutschland
CATEGORIES:Dienste,Einsatzabteilung
ORGANIZER;CN="Feuerwehr Genshagen":MAILTO:veranstaltungen@feuerwehr-genshagen.de
END:VEVENT
BEGIN:VEVENT
DTSTART;TZID=Europe/Berlin:20260516T090000
DTEND;TZID=Europe/Berlin:20260516T150000
DTSTAMP:20260420T151804
CREATED:20260109T124101Z
LAST-MODIFIED:20260109T124101Z
UID:2568-1778922000-1778943600@feuerwehr-genshagen.de
SUMMARY:Dienst Kinderfeuerwehr
DESCRIPTION:
URL:https://feuerwehr-genshagen.de/veranstaltung/dienst-kinderfeuerwehr-15/
LOCATION:Feuerwehr Genshagen\, Genshagener Dorfstraße 57\, Ludwigsfelde OT Genshagen\, 14974\, Deutschland
CATEGORIES:Kinderfeuerwehr
ORGANIZER;CN="Feuerwehr Genshagen":MAILTO:veranstaltungen@feuerwehr-genshagen.de
END:VEVENT
BEGIN:VEVENT
DTSTART;TZID=Europe/Berlin:20260519T183000
DTEND;TZID=Europe/Berlin:20260519T203000
DTSTAMP:20260420T151804
CREATED:20260109T155631Z
LAST-MODIFIED:20260109T155631Z
UID:2631-1779215400-1779222600@feuerwehr-genshagen.de
SUMMARY:Dienst Einsatzabteilung 19.05.2026
DESCRIPTION:Thema: FwDV 10 (Die tragbaren Leitern) \n  \nAusbilder: SWF
URL:https://feuerwehr-genshagen.de/veranstaltung/dienst-einsatzabteilung-19-05-2026/
LOCATION:Feuerwehr Genshagen\, Genshagener Dorfstraße 57\, Ludwigsfelde OT Genshagen\, 14974\, Deutschland
CATEGORIES:Dienste,Einsatzabteilung
ORGANIZER;CN="Feuerwehr Genshagen":MAILTO:veranstaltungen@feuerwehr-genshagen.de
END:VEVENT
BEGIN:VEVENT
DTSTART;TZID=Europe/Berlin:20260529T183000
DTEND;TZID=Europe/Berlin:20260529T203000
DTSTAMP:20260420T151804
CREATED:20260109T155729Z
LAST-MODIFIED:20260109T155729Z
UID:2633-1780079400-1780086600@feuerwehr-genshagen.de
SUMMARY:Dienst Einsatzabteilung 29.05.2026
DESCRIPTION:Thema: Retten von Personen \n  \nAusbilder: SWF
URL:https://feuerwehr-genshagen.de/veranstaltung/dienst-einsatzabteilung-29-05-2026/
LOCATION:Feuerwehr Genshagen\, Genshagener Dorfstraße 57\, Ludwigsfelde OT Genshagen\, 14974\, Deutschland
CATEGORIES:Dienste,Einsatzabteilung
ORGANIZER;CN="Feuerwehr Genshagen":MAILTO:veranstaltungen@feuerwehr-genshagen.de
END:VEVENT
BEGIN:VEVENT
DTSTART;TZID=Europe/Berlin:20260530T090000
DTEND;TZID=Europe/Berlin:20260530T100000
DTSTAMP:20260420T151804
CREATED:20260109T124137Z
LAST-MODIFIED:20260109T124137Z
UID:2570-1780131600-1780135200@feuerwehr-genshagen.de
SUMMARY:Dienst Kinderfeuerwehr
DESCRIPTION:
URL:https://feuerwehr-genshagen.de/veranstaltung/dienst-kinderfeuerwehr-16/
LOCATION:Feuerwehr Genshagen\, Genshagener Dorfstraße 57\, Ludwigsfelde OT Genshagen\, 14974\, Deutschland
CATEGORIES:Kinderfeuerwehr
ORGANIZER;CN="Feuerwehr Genshagen":MAILTO:veranstaltungen@feuerwehr-genshagen.de
END:VEVENT
END:VCALENDAR